BEGIN:VCALENDAR
VERSION:2.0
PRODID:-//Squarespace Inc/Squarespace 6//v6//EN
BEGIN:VEVENT
UID:5a5708bd24a694f00f47a305@squarespace.com
DTSTAMP:20180111T064951Z
DTSTART:20180514T223000Z
DTEND:20180517T050500Z
SUMMARY:NAPLAN
END:VEVENT
END:VCALENDAR
