BEGIN:VCALENDAR
VERSION:2.0
PRODID:-//Squarespace Inc/Squarespace 6//v6//EN
BEGIN:VEVENT
UID:5b0cdee703ce64b8955d53b9@squarespace.com
DTSTAMP:20180529T050903Z
DTSTART:20180501T103000Z
DTEND:20180501T113000Z
SUMMARY:Primary School Assembly
END:VEVENT
END:VCALENDAR
