BEGIN:VCALENDAR
VERSION:2.0
PRODID:-//Squarespace Inc/Squarespace 6//v6//EN
BEGIN:VEVENT
UID:5b0cf5aa575d1fdde9c1eb71@squarespace.com
DTSTAMP:20180529T064014Z
DTSTART:20180508T103000Z
DTEND:20180508T113000Z
SUMMARY:Primary School Assembly
END:VEVENT
END:VCALENDAR
