BEGIN:VCALENDAR
VERSION:2.0
PRODID:-//Squarespace Inc/Squarespace 6//v6//EN
BEGIN:VEVENT
UID:5b0cf5ce03ce64b8955f5717@squarespace.com
DTSTAMP:20180529T064025Z
DTSTART:20180515T103000Z
DTEND:20180515T113000Z
SUMMARY:Primary School Assembly
END:VEVENT
END:VCALENDAR
