BEGIN:VCALENDAR
VERSION:2.0
PRODID:-//Squarespace Inc/Squarespace 6//v6//EN
BEGIN:VEVENT
UID:5b0cf5ed2b6a288855d22d12@squarespace.com
DTSTAMP:20180529T064133Z
DTSTART:20180522T103000Z
DTEND:20180522T113000Z
SUMMARY:Primary School Assembly
END:VEVENT
END:VCALENDAR
