BEGIN:VCALENDAR
VERSION:2.0
PRODID:-//Squarespace Inc/Squarespace 6//v6//EN
BEGIN:VEVENT
UID:5b0cf624aa4a9903323a6cab@squarespace.com
DTSTAMP:20180529T064521Z
DTSTART:20180528T223000Z
DTEND:20180528T233000Z
SUMMARY:Primary School Assembly
END:VEVENT
END:VCALENDAR
