BEGIN:VCALENDAR
VERSION:2.0
PRODID:-//Squarespace Inc/Squarespace 6//v6//EN
BEGIN:VEVENT
UID:5b0cf63d575d1fdde9c1f728@squarespace.com
DTSTAMP:20180529T064535Z
DTSTART:20180604T223000Z
DTEND:20180604T233000Z
SUMMARY:Primary School Assembly
END:VEVENT
END:VCALENDAR
