BEGIN:VCALENDAR
VERSION:2.0
PRODID:-//Squarespace Inc/Squarespace 6//v6//EN
BEGIN:VEVENT
UID:5b0cf6696d2a73781c59f2fa@squarespace.com
DTSTAMP:20180529T064623Z
DTSTART:20180611T223000Z
DTEND:20180611T233000Z
SUMMARY:Primary School Assembly
END:VEVENT
END:VCALENDAR
