BEGIN:VCALENDAR
VERSION:2.0
PRODID:-//Squarespace Inc/Squarespace 6//v6//EN
BEGIN:VEVENT
UID:5b0cf6b488251baf568b6d1a@squarespace.com
DTSTAMP:20180529T064505Z
DTSTART:20180716T223000Z
DTEND:20180716T233000Z
SUMMARY:Primary School Assembly
END:VEVENT
END:VCALENDAR
