BEGIN:VCALENDAR
VERSION:2.0
PRODID:-//Squarespace Inc/Squarespace 6//v6//EN
BEGIN:VEVENT
UID:5b0cf7e32b6a288855d254c8@squarespace.com
DTSTAMP:20180529T065035Z
DTSTART:20180723T223000Z
DTEND:20180723T233000Z
SUMMARY:Primary School Assembly
END:VEVENT
END:VCALENDAR
