BEGIN:VCALENDAR
VERSION:2.0
PRODID:-//Squarespace Inc/Squarespace 6//v6//EN
BEGIN:VEVENT
UID:5b0cf847575d1fdde9c2217b@squarespace.com
DTSTAMP:20180529T065112Z
DTSTART:20180730T223000Z
DTEND:20180730T233000Z
SUMMARY:Primary School Assembly
END:VEVENT
END:VCALENDAR
