BEGIN:VCALENDAR
VERSION:2.0
PRODID:-//Squarespace Inc/Squarespace 6//v6//EN
BEGIN:VEVENT
UID:5b0cf75f1ae6cf7505bddd4a@squarespace.com
DTSTAMP:20180529T064804Z
DTSTART:20180625T223000Z
DTEND:20180625T233000Z
SUMMARY:Primary School Assembly
END:VEVENT
END:VCALENDAR
