BEGIN:VCALENDAR
VERSION:2.0
PRODID:-//Squarespace Inc/Squarespace 6//v6//EN
BEGIN:VEVENT
UID:5a57081124a694f00f479276@squarespace.com
DTSTAMP:20180111T064801Z
DTSTART:20180430T223000Z
DTEND:20180501T050500Z
SUMMARY:Inter-school Cross Country Carnival
END:VEVENT
END:VCALENDAR
