BEGIN:VCALENDAR
VERSION:2.0
PRODID:-//Squarespace Inc/Squarespace 6//v6//EN
BEGIN:VEVENT
UID:5a5707bb419202b169a06ef2@squarespace.com
DTSTAMP:20180111T064519Z
DTSTART:20180424T140000Z
DTEND:20180425T135900Z
SUMMARY:ANZAC Day
END:VEVENT
END:VCALENDAR
