BEGIN:VCALENDAR
VERSION:2.0
PRODID:-//Squarespace Inc/Squarespace 6//v6//EN
BEGIN:VEVENT
UID:5a5709a7c8302558eff40669@squarespace.com
DTSTAMP:20180112T015510Z
DTSTART:20180622T220000Z
DTEND:20180623T020000Z
SUMMARY:Working Bee - Term 2
END:VEVENT
END:VCALENDAR
