BEGIN:VCALENDAR
VERSION:2.0
PRODID:-//Squarespace Inc/Squarespace 6//v6//EN
BEGIN:VEVENT
UID:5a5706b99140b755af50aa74@squarespace.com
DTSTAMP:20180111T064359Z
DTSTART:20180419T223000Z
DTEND:20180420T050500Z
SUMMARY:Cross Country Carnival
GEO:-19.281755;146.808775
LOCATION:Bicentennial Park\, 26 Sooning Street\, Hermit Park\, QLD\, 4812\, 
 Australia
END:VEVENT
END:VCALENDAR
