BEGIN:VCALENDAR
VERSION:2.0
PRODID:-//Squarespace Inc/Squarespace 6//v6//EN
BEGIN:VEVENT
UID:5a570510ec212d24a8b012c1@squarespace.com
DTSTAMP:20180112T015344Z
DTSTART:20180401T140000Z
DTEND:20180402T135900Z
SUMMARY:Easter Monday
END:VEVENT
END:VCALENDAR
