BEGIN:VCALENDAR
VERSION:2.0
PRODID:-//Squarespace Inc/Squarespace 6//v6//EN
BEGIN:VEVENT
UID:5a57060dec212d24a8b02a6d@squarespace.com
DTSTAMP:20180111T063853Z
DTSTART:20180416T223000Z
DTEND:20180417T050500Z
SUMMARY:First Day of Term 2
END:VEVENT
END:VCALENDAR
