BEGIN:VCALENDAR
VERSION:2.0
PRODID:-//Squarespace Inc/Squarespace 6//v6//EN
BEGIN:VEVENT
UID:5a5705c2085229f556c6a6ca@squarespace.com
DTSTAMP:20180111T063649Z
DTSTART:20180415T140000Z
DTEND:20180416T135900Z
SUMMARY:Student Free Day
END:VEVENT
END:VCALENDAR
