BEGIN:VCALENDAR
VERSION:2.0
PRODID:-//Squarespace Inc/Squarespace 6//v6//EN
BEGIN:VEVENT
UID:5a5703c8085229f556c676b5@squarespace.com
DTSTAMP:20180111T063533Z
DTSTART:20180329T140000Z
DTEND:20180415T015900Z
SUMMARY:School Holidays
END:VEVENT
END:VCALENDAR
