BEGIN:VCALENDAR
VERSION:2.0
PRODID:-//Squarespace Inc/Squarespace 6//v6//EN
BEGIN:VEVENT
UID:5a570472085229f556c686e4@squarespace.com
DTSTAMP:20180111T063342Z
DTSTART:20180329T140000Z
DTEND:20180330T135900Z
SUMMARY:Good Friday
END:VEVENT
END:VCALENDAR
