BEGIN:VCALENDAR
VERSION:2.0
PRODID:-//Squarespace Inc/Squarespace 6//v6//EN
BEGIN:VEVENT
UID:5a570368f9619a7a6dc5d4ae@squarespace.com
DTSTAMP:20180111T062642Z
DTSTART:20180328T223000Z
DTEND:20180329T050500Z
SUMMARY:Last Day of Term 1
END:VEVENT
END:VCALENDAR
