BEGIN:VCALENDAR
VERSION:2.0
PRODID:-//Squarespace Inc/Squarespace 6//v6//EN
BEGIN:VEVENT
UID:5a570921085229f556c6f681@squarespace.com
DTSTAMP:20180112T015456Z
DTSTART:20180323T220000Z
DTEND:20180324T020000Z
SUMMARY:Working Bee - Term 1
END:VEVENT
END:VCALENDAR
