BEGIN:VCALENDAR
VERSION:2.0
PRODID:-//Squarespace Inc/Squarespace 6//v6//EN
BEGIN:VEVENT
UID:5a57021bec212d24a8afcb6b@squarespace.com
DTSTAMP:20180111T062330Z
DTSTART:20180222T080000Z
DTEND:20180222T103000Z
SUMMARY:Swimming Carnival
GEO:-19.31095;146.735948
LOCATION:Kirwan Aquatic Centre\, 29 Hudson Street\, Kirwan\, QLD\, 4817\, A
 ustralia
END:VEVENT
END:VCALENDAR
