BEGIN:VCALENDAR
VERSION:2.0
PRODID:-//Squarespace Inc/Squarespace 6//v6//EN
BEGIN:VEVENT
UID:5a5702f3419202b1699ffc77@squarespace.com
DTSTAMP:20180111T062524Z
DTSTART:20180311T223000Z
DTEND:20180312T050500Z
SUMMARY:Interschool Swimming Carnival
END:VEVENT
END:VCALENDAR
