BEGIN:VCALENDAR
VERSION:2.0
PRODID:-//Squarespace Inc/Squarespace 6//v6//EN
BEGIN:VEVENT
UID:5a582b8a652deaf84eedfcf7@squarespace.com
DTSTAMP:20180112T033052Z
DTSTART:20181206T223000Z
DTEND:20181207T050500Z
SUMMARY:Last Day of Term 4
END:VEVENT
END:VCALENDAR
