BEGIN:VCALENDAR
VERSION:2.0
PRODID:-//Squarespace Inc/Squarespace 6//v6//EN
BEGIN:VEVENT
UID:5a582aacc830250f7baf72cd@squarespace.com
DTSTAMP:20180112T032904Z
DTSTART:20181129T083000Z
DTEND:20181129T103000Z
SUMMARY:Awards Night
END:VEVENT
END:VCALENDAR
