BEGIN:VCALENDAR
VERSION:2.0
PRODID:-//Squarespace Inc/Squarespace 6//v6//EN
BEGIN:VEVENT
UID:5a5829e2e4966b9049a51d8e@squarespace.com
DTSTAMP:20180112T032522Z
DTSTART:20181126T223000Z
DTEND:20181127T003000Z
SUMMARY:Awards Day - Junior School (Prep-2)
END:VEVENT
END:VCALENDAR
