BEGIN:VCALENDAR
VERSION:2.0
PRODID:-//Squarespace Inc/Squarespace 6//v6//EN
BEGIN:VEVENT
UID:5a570a2fec212d24a8b08a6f@squarespace.com
DTSTAMP:20180112T015639Z
DTSTART:20181123T220000Z
DTEND:20181124T020000Z
SUMMARY:Working Bee - Term 4
END:VEVENT
END:VCALENDAR
