BEGIN:VCALENDAR
VERSION:2.0
PRODID:-//Squarespace Inc/Squarespace 6//v6//EN
BEGIN:VEVENT
UID:5a570d3fe2c483c38b2eb7a1@squarespace.com
DTSTAMP:20180111T070901Z
DTSTART:20181122T083000Z
DTEND:20181122T103000Z
SUMMARY:TCC Year 6 Dinner
END:VEVENT
END:VCALENDAR
