BEGIN:VCALENDAR
VERSION:2.0
PRODID:-//Squarespace Inc/Squarespace 6//v6//EN
BEGIN:VEVENT
UID:5a570d0371c10b996465e2ac@squarespace.com
DTSTAMP:20180111T070733Z
DTSTART:20181021T140000Z
DTEND:20181022T135900Z
SUMMARY:Student Free Day
END:VEVENT
END:VCALENDAR
