BEGIN:VCALENDAR
VERSION:2.0
PRODID:-//Squarespace Inc/Squarespace 6//v6//EN
BEGIN:VEVENT
UID:5a5700fb085229f556c63355@squarespace.com
DTSTAMP:20191210T055908Z
DTSTART:20190126T140000Z
DTEND:20190127T135500Z
SUMMARY:Australia Day
END:VEVENT
END:VCALENDAR
