BEGIN:VCALENDAR
VERSION:2.0
PRODID:-//Squarespace Inc/Squarespace 6//v6//EN
BEGIN:VEVENT
UID:5a58161953450a9c63046734@squarespace.com
DTSTAMP:20180112T020044Z
DTSTART:20181122T080000Z
DTEND:20181122T100000Z
SUMMARY:TCC Year 6 Dinner
END:VEVENT
END:VCALENDAR
