BEGIN:VCALENDAR
VERSION:2.0
PRODID:-//Squarespace Inc/Squarespace 6//v6//EN
BEGIN:VEVENT
UID:5a56fe81085229f556c5f58f@squarespace.com
DTSTAMP:20180111T062711Z
DTSTART:20180121T223000Z
DTEND:20180122T050500Z
SUMMARY:First Day of Term 1
END:VEVENT
END:VCALENDAR
