BEGIN:VCALENDAR
VERSION:2.0
PRODID:-//Squarespace Inc/Squarespace 6//v6//EN
BEGIN:VEVENT
UID:58aa6fe2be6594a0842c2103@squarespace.com
DTSTAMP:20170816T061943Z
DTSTART:20170818T220000Z
DTEND:20170819T020000Z
SUMMARY:Working Bee - Term 3
END:VEVENT
END:VCALENDAR
