BEGIN:VCALENDAR
VERSION:2.0
PRODID:-//Squarespace Inc/Squarespace 6//v6//EN
BEGIN:VEVENT
UID:58aa7abf197aea3df283f874@squarespace.com
DTSTAMP:20170220T051337Z
DTSTART:20170915T140000Z
DTEND:20171001T015900Z
SUMMARY:School Holidays
END:VEVENT
END:VCALENDAR
