BEGIN:VCALENDAR
VERSION:2.0
PRODID:-//Squarespace Inc/Squarespace 6//v6//EN
BEGIN:VEVENT
UID:58aa5fa48419c2e78d7af206@squarespace.com
DTSTAMP:20170220T042540Z
DTSTART:20170914T223000Z
DTEND:20170915T050000Z
SUMMARY:Last Day of Term 3
END:VEVENT
END:VCALENDAR
