BEGIN:VCALENDAR
VERSION:2.0
PRODID:-//Squarespace Inc/Squarespace 6//v6//EN
BEGIN:VEVENT
UID:58aa70db59cc68ccc5045a86@squarespace.com
DTSTAMP:20170220T043137Z
DTSTART:20170806T223000Z
DTEND:20170807T050000Z
SUMMARY:Inter-school Athletics Carnival
END:VEVENT
END:VCALENDAR
