BEGIN:VCALENDAR
VERSION:2.0
PRODID:-//Squarespace Inc/Squarespace 6//v6//EN
BEGIN:VEVENT
UID:5993e38cf5e231d88b4751cf@squarespace.com
DTSTAMP:20170816T061918Z
DTSTART:20170901T073000Z
DTEND:20170901T103000Z
SUMMARY:Community Fair
GEO:-19.28139;146.766491
LOCATION:Townsville Christian College\, 210 Palmerston Street\, Vincent\, Q
 LD\, 4814\, Australia
END:VEVENT
END:VCALENDAR
