BEGIN:VCALENDAR
VERSION:2.0
PRODID:-//Squarespace Inc/Squarespace 6//v6//EN
BEGIN:VEVENT
UID:58aa5d5e8419c2e78d7ad9f4@squarespace.com
DTSTAMP:20170220T042532Z
DTSTART:20170709T223000Z
DTEND:20170710T050000Z
SUMMARY:First Day of Term 3
END:VEVENT
END:VCALENDAR
