BEGIN:VCALENDAR
VERSION:2.0
PRODID:-//Squarespace Inc/Squarespace 6//v6//EN
BEGIN:VEVENT
UID:58aa7a766a4963c0a969181a@squarespace.com
DTSTAMP:20170220T051212Z
DTSTART:20170623T140000Z
DTEND:20170709T135900Z
SUMMARY:School Holidays
END:VEVENT
END:VCALENDAR
