BEGIN:VCALENDAR
VERSION:2.0
PRODID:-//Squarespace Inc/Squarespace 6//v6//EN
BEGIN:VEVENT
UID:58aa5f6ebe6594a0842b6a06@squarespace.com
DTSTAMP:20170220T042522Z
DTSTART:20170622T223000Z
DTEND:20170623T050000Z
SUMMARY:Last Day of Term 2
END:VEVENT
END:VCALENDAR
