BEGIN:VCALENDAR
VERSION:2.0
PRODID:-//Squarespace Inc/Squarespace 6//v6//EN
BEGIN:VEVENT
UID:58aa6f5217bffc6029d66e20@squarespace.com
DTSTAMP:20170220T042447Z
DTSTART:20170609T220000Z
DTEND:20170610T020000Z
SUMMARY:Working Bee - Term 2
END:VEVENT
END:VCALENDAR
