BEGIN:VCALENDAR
VERSION:2.0
PRODID:-//Squarespace Inc/Squarespace 6//v6//EN
BEGIN:VEVENT
UID:58d20fb3be6594c17172bd04@squarespace.com
DTSTAMP:20170322T054737Z
DTSTART:20170601T060000Z
DTEND:20170601T070000Z
SUMMARY:Celebration Day
END:VEVENT
END:VCALENDAR
