BEGIN:VCALENDAR
VERSION:2.0
PRODID:-//Squarespace Inc/Squarespace 6//v6//EN
BEGIN:VEVENT
UID:58aa781dd2b8579b70c87db8@squarespace.com
DTSTAMP:20170220T050229Z
DTSTART:20170508T223000Z
DTEND:20170511T050000Z
SUMMARY:NAPLAN
END:VEVENT
END:VCALENDAR
