BEGIN:VCALENDAR
VERSION:2.0
PRODID:-//Squarespace Inc/Squarespace 6//v6//EN
BEGIN:VEVENT
UID:58aa7ea71b631b5940714717@squarespace.com
DTSTAMP:20170322T021015Z
DTSTART:20170523T223000Z
DTEND:20170526T050000Z
SUMMARY:School Camp
END:VEVENT
END:VCALENDAR
