BEGIN:VCALENDAR
VERSION:2.0
PRODID:-//Squarespace Inc/Squarespace 6//v6//EN
BEGIN:VEVENT
UID:58aa7e14d482e97464847807@squarespace.com
DTSTAMP:20170220T052736Z
DTSTART:20170501T223000Z
DTEND:20170501T233000Z
SUMMARY:Inter-School Cross Country Carnival
END:VEVENT
END:VCALENDAR
