BEGIN:VCALENDAR
VERSION:2.0
PRODID:-//Squarespace Inc/Squarespace 6//v6//EN
BEGIN:VEVENT
UID:58aa734abebafb33788dbbbc@squarespace.com
DTSTAMP:20170220T044157Z
DTSTART:20170430T140000Z
DTEND:20170501T135900Z
SUMMARY:Public Holiday - Labour Day
END:VEVENT
END:VCALENDAR
