BEGIN:VCALENDAR
VERSION:2.0
PRODID:-//Squarespace Inc/Squarespace 6//v6//EN
BEGIN:VEVENT
UID:58aa72a6cd0f68a0822296a7@squarespace.com
DTSTAMP:20170220T043845Z
DTSTART:20170424T140000Z
DTEND:20170425T135900Z
SUMMARY:Public Holiday - Anzac Day
END:VEVENT
END:VCALENDAR
