BEGIN:VCALENDAR
VERSION:2.0
PRODID:-//Squarespace Inc/Squarespace 6//v6//EN
BEGIN:VEVENT
UID:58aa5cc03e00be9b7ed20e73@squarespace.com
DTSTAMP:20170220T042512Z
DTSTART:20170417T223000Z
DTEND:20170418T050000Z
SUMMARY:First Day of Term 2
END:VEVENT
END:VCALENDAR
